BEGIN:VCALENDAR
VERSION:2.0
PRODID:-//studioMADE at the Carriageworks - ECPv6.13.2.1//NONSGML v1.0//EN
CALSCALE:GREGORIAN
METHOD:PUBLISH
X-ORIGINAL-URL:https://studiomade.cymru
X-WR-CALDESC:Events for studioMADE at the Carriageworks
REFRESH-INTERVAL;VALUE=DURATION:PT1H
X-Robots-Tag:noindex
X-PUBLISHED-TTL:PT1H
BEGIN:VTIMEZONE
TZID:Europe/London
BEGIN:DAYLIGHT
TZOFFSETFROM:+0000
TZOFFSETTO:+0100
TZNAME:BST
DTSTART:20230326T010000
END:DAYLIGHT
BEGIN:STANDARD
TZOFFSETFROM:+0100
TZOFFSETTO:+0000
TZNAME:GMT
DTSTART:20231029T010000
END:STANDARD
END:VTIMEZONE
BEGIN:VEVENT
DTSTART;TZID=Europe/London:20231209T100000
DTEND;TZID=Europe/London:20231209T170000
DTSTAMP:20260421T052001
CREATED:20231219T174443Z
LAST-MODIFIED:20231219T174443Z
UID:373-1702116000-1702141200@studiomade.cymru
SUMMARY:Workshop and Talk with Radha Patel
DESCRIPTION:Saturday 9th December sees an exciting opportunity to work with artist Radha Patel to explore future language through interplanetary narratives and the making/sculpting of creatures with clay. \nThe workshop is open to anyone 15+\, who is interested in intergalactic lore and sharing their hopes for the future. \nRadha is a Welsh writer\, reviewer and artist whose work intersects across colonialism\, nature\, religion and the future. \nIn 2019\, she was selected for g39’s UNITe programme where she developed ‘Notes From Aarti’s Diary\, telling the story of people of colour who became trapped inside a spaceship and explored life without of white-supremacy\, ‘after a surge activated the vessel and sent them flying throughout the cosmos\, until they landed on the Planet Kelvin’. ‘Finding Aarti’ is a follow up film where the original protagonist’s sister travels the galaxy in search of her sibling\, exploring her relationship with land and other beings\, and figuring out rituals to sustain these relationships along the way. \nThe language here is ‘an experiment in healing’ – a process explored by our original protagonists to help them find the words to describe and navigate their new freedom. \nStarting at 10am the workshop will run until 2pm\, followed at 3pm by an artist talk. \nTo book your place click here: Intergalactic lore + hopes for the future Tickets\, Sat 9 Dec 2023 at 10:00 | Eventbrite \nAr Ddydd Sadwrn y 9fed o Ragfyr bydd cyfle cyffrous i weithio gyda’r artist Radha Patel i archwilio iaith y dyfodol trwy naratifau rhyngblanedol a gwneud/cerflunio creaduriaid gyda chlai. \nMae’r gweithdy yn agored i unrhyw un 15+\, sydd â diddordeb mewn llên rhyngalaethol a rhannu eu gobeithion ar gyfer y dyfodol. \nMae Radha yn awdur\, adolygydd ac artist Cymreig y mae ei waith yn croestorri ar draws gwladychiaeth\, natur\, crefydd a’r dyfodol. \nYn 2019\, cafodd ei dewis ar gyfer rhaglen UNITe g39 lle datblygodd ‘Notes From Aarti’s Diary’\, gan adrodd hanes pobl o liw a gafodd eu dal y tu mewn i long ofod ac a archwiliodd fywyd heb oruchafiaeth wen\, ‘ar ôl i ymchwydd actifadu’r llong a’u hanfon i hedfan drwy’r cosmos\, nes iddynt lanio ar y Planed Kelvin’. Mae ‘Finding Aarti’ yn ffilm ddilynol lle mae chwaer y prif gymeriad gwreiddiol yn teithio’r alaeth i chwilio am ei chwaer\, yn archwilio ei pherthynas â thir a bodau eraill\, ac yn darganfod defodau i gynnal y perthnasoedd hyn ar hyd y ffordd. \nMae’r iaith yma yn ‘arbrawf mewn iachâd’ – proses a archwiliwyd gan ein prif gymeriadau gwreiddiol i’w helpu i ddod o hyd i’r geiriau i ddisgrifio a llywio eu rhyddid newydd. Gan ddechrau am 10yb bydd y gweithdy yn rhedeg tan 2yp\, gyda sgwrs artist i ddilyn am 3yp. \nI archebu eich lle cliciwch yma: Tocynnau llên rhyngalaethol a gobeithion am y dyfodol\, Sad 9 Rhag 2023 am 10:00 | Eventbrite
URL:https://studiomade.cymru/event/workshop-and-talk-with-radha-patel/
CATEGORIES:Workshop
END:VEVENT
BEGIN:VEVENT
DTSTART;TZID=Europe/London:20231214T100000
DTEND;TZID=Europe/London:20231214T150000
DTSTAMP:20260421T052001
CREATED:20231219T174559Z
LAST-MODIFIED:20231219T174559Z
UID:375-1702548000-1702566000@studiomade.cymru
SUMMARY:Dwylo Bach Gets Festive
DESCRIPTION:Dwylo Bach / Little Hands returns on Thursday 14th December with a festive twist. The sensory exploration workshops for babies and toddlers\, developed to link to specific exhibitions with “invitations to play”. The activities are sensory and playful for all the family to enjoy. Suitable for 0 – 5 year olds. \nTo book a place click here: Dwylo Bach Tickets\, Multiple Dates | Eventbrite \nBydd Dwylo Bach / Little Hands yn dychwelyd ar Ddydd Iau y 14eg o Ragfyr gyda blas Nadoligaidd. Datblygodd y gweithdai archwilio synhwyraidd ar gyfer babanod a phlant bach i gysylltu ag arddangosfeydd penodol gyda “gwahoddiad i chwarae”. Mae’r gweithgareddau yn synhwyraidd ac yn chwareus i’r teulu cyfan eu mwynhau. Addas ar gyfer plant 0 – 5 oed. \nI archebu lle cliciwch yma: Tocynnau Dwylo Bach\, Nifer o Ddyddiau | Eventbrite
URL:https://studiomade.cymru/event/dwylo-bach-gets-festive/
CATEGORIES:Workshop
ATTACH;FMTTYPE=image/png:https://studiomade.cymru/wp-content/uploads/2023/06/5ad80cd7-5218-60c8-e4a5-24d510238b4a.png
END:VEVENT
END:VCALENDAR