BEGIN:VCALENDAR
VERSION:2.0
PRODID:-//studioMADE at the Carriageworks - ECPv6.13.2.1//NONSGML v1.0//EN
CALSCALE:GREGORIAN
METHOD:PUBLISH
X-WR-CALNAME:studioMADE at the Carriageworks
X-ORIGINAL-URL:https://studiomade.cymru
X-WR-CALDESC:Events for studioMADE at the Carriageworks
REFRESH-INTERVAL;VALUE=DURATION:PT1H
X-Robots-Tag:noindex
X-PUBLISHED-TTL:PT1H
BEGIN:VTIMEZONE
TZID:Europe/London
BEGIN:DAYLIGHT
TZOFFSETFROM:+0000
TZOFFSETTO:+0100
TZNAME:BST
DTSTART:20240331T010000
END:DAYLIGHT
BEGIN:STANDARD
TZOFFSETFROM:+0100
TZOFFSETTO:+0000
TZNAME:GMT
DTSTART:20241027T010000
END:STANDARD
END:VTIMEZONE
BEGIN:VEVENT
DTSTART;TZID=Europe/London:20240323T130000
DTEND;TZID=Europe/London:20240323T160000
DTSTAMP:20260421T050445
CREATED:20240321T201223Z
LAST-MODIFIED:20240321T201223Z
UID:576-1711198800-1711209600@studiomade.cymru
SUMMARY:Announcing 'Mutualism' by Verity Pulford
DESCRIPTION:Opening Saturday 23rd March 2024\n‘Mutualism’\, a new showing of work by North Wales artist Verity Pulford\, opens at studioMADE from 1pm on Saturday 23rd March. We are excited that the opening will also include a tour of the work by the artist – something not to be missed. \nThe artist explores “A beneficial symbiosis… between sea and land\, humans and the natural environment\, animal and plant forms; making and sharing practice with others. \nAs Verity states “… my work is about a connection to nature\, the spirituality I find in it\, the sense of place. A love of this land I call home\, the natural environments I have grown up around\, chosen to spend my life alongside. Of Wales and its bounty of beauty\, diversity and wonder.” \nPlease do come along to experience the intricate world of the artist first hand. \nVerity’s project is supported by Arts Council of Wales. \nVerity Pulford: Mutualism Tickets\, Sat\, Mar 23\, 2024 at 1:00 PM | Eventbrite \nMae ‘Mutualism’\, dangosiad newydd o waith gan yr artist Verity Pulford o Ogledd Cymru\, yn agor yn studioMADE o 1yp ddydd Sadwrn 23 Mawrth. Rydym yn gyffrous y bydd yr agoriad hefyd yn cynnwys taith o amgylch y gwaith gan yr artist – rhywbeth na ddylid ei golli. \nMae’r artist yn archwilio “Symbiosis buddiol… rhwng môr a thir\, bodau dynol a’r amgylchedd naturiol\, ffurfiau anifeiliaid a phlanhigion; gwneud a rhannu arfer ag eraill. \nFel y dywed Verity “… mae fy ngwaith yn ymwneud â chysylltiad â natur\, yr ysbrydolrwydd a ddarganfyddaf ynddo\, yr ymdeimlad o le. Cariad at y tir hwn yr wyf yn ei galw’n gartref\, yr amgylcheddau naturiol yr wyf wedi tyfu o’m cwmpas\, wedi dewis treulio fy mywyd ochr yn ochr â nhw. Am Gymru a’i haelioni o brydferthwch\, amrywiaeth a rhyfeddod.” \nMae croeso mawr i chi ddod draw i brofi byd cywrain yr artist\, â’ch llygaid eich hun. \nCefnogir prosiect Verity gan Gyngor Celfyddydau Cymru. \nVerity Pulford: Mutualism Tickets\, Sat\, Mar 23\, 2024 at 1:00 PM | Eventbrite
URL:https://studiomade.cymru/event/announcing-mutualism-by-verity-pulford/
LOCATION:The Carrageworks\, 6 Love Lane\, Denbigh\, LL16 3LU\, United Kingdom
CATEGORIES:Exhibition
ATTACH;FMTTYPE=image/png:https://studiomade.cymru/wp-content/uploads/2024/03/Verity03.png
END:VEVENT
BEGIN:VEVENT
DTSTART;TZID=Europe/London:20240325T110000
DTEND;TZID=Europe/London:20240325T143000
DTSTAMP:20260421T050445
CREATED:20240321T201438Z
LAST-MODIFIED:20240321T201438Z
UID:579-1711364400-1711377000@studiomade.cymru
SUMMARY:Glass Workshop with Verity Pulford
DESCRIPTION:Join the artist on Monday 25th March from 11am until 2:30pm within her exhibition at studioMADE to learn about how to work with glass and be inspired by the natural world. Using small natural objects as inspiration Verity will work with you in a small group to help you create fused and painted light catchers. \nPlaces are limited so please book by clicking here: Glass Workshop with Verity Pulford Tickets\, Mon\, Mar 25\, 2024 at 11:00 AM | Eventbrite\nYmunwch â’r artist ddydd Llun 25 Mawrth o 11yb tan 2:30yp yn ei harddangosfa yn studioMADE i ddysgu sut i weithio gyda gwydr a chael eich ysbrydoli gan y byd naturiol. Trwy ddefnyddio gwrthrychau naturiol bach fel ysbrydoliaeth\, bydd Verity yn gweithio gyda chi mewn grŵp bach i’ch helpu i greu dalwyr golau wedi’u hasio a’u paentio. \nMae lleoedd yn gyfyngedig felly archebwch trwy glicio yma: Glass Workshop with Verity Pulford Tickets\, Mon\, Mar 25\, 2024 at 11:00 AM | Eventbrite
URL:https://studiomade.cymru/event/glass-workshop-with-verity-pulford/
LOCATION:The Carrageworks\, 6 Love Lane\, Denbigh\, LL16 3LU\, United Kingdom
CATEGORIES:Workshop
ATTACH;FMTTYPE=image/jpeg:https://studiomade.cymru/wp-content/uploads/2024/03/verity04.jpg
END:VEVENT
BEGIN:VEVENT
DTSTART;TZID=Europe/London:20240616T110000
DTEND;TZID=Europe/London:20240616T130000
DTSTAMP:20260421T050445
CREATED:20240614T131801Z
LAST-MODIFIED:20240614T132949Z
UID:923-1718535600-1718542800@studiomade.cymru
SUMMARY:FOOTPRINTS
DESCRIPTION:Sunday 16th June 11-1pm \nPlease join us to for a short stroll through town\, art activities and cultural sharing at studioMADE\, \nThe day will involve printmaking\, photography as well as a cultural food sharing.\nPlease bring a phone camera and a cultural dish of your choice to share if you can. \nSuitable for all ages and abilities\nThis event is free/Donations welcome \n\n		\n		\n			\n				\n			\n			\n				\n			\n		\n\n 
URL:https://studiomade.cymru/event/footprints/
LOCATION:The Carrageworks\, 6 Love Lane\, Denbigh\, LL16 3LU\, United Kingdom
CATEGORIES:Workshop
ATTACH;FMTTYPE=image/png:https://studiomade.cymru/wp-content/uploads/2024/06/Screenshot-2024-06-14-at-14.20.32.png
END:VEVENT
END:VCALENDAR