BEGIN:VCALENDAR
VERSION:2.0
PRODID:-//studioMADE at the Carriageworks - ECPv6.13.2.1//NONSGML v1.0//EN
CALSCALE:GREGORIAN
METHOD:PUBLISH
X-WR-CALNAME:studioMADE at the Carriageworks
X-ORIGINAL-URL:https://studiomade.cymru
X-WR-CALDESC:Events for studioMADE at the Carriageworks
REFRESH-INTERVAL;VALUE=DURATION:PT1H
X-Robots-Tag:noindex
X-PUBLISHED-TTL:PT1H
BEGIN:VTIMEZONE
TZID:Europe/London
BEGIN:DAYLIGHT
TZOFFSETFROM:+0000
TZOFFSETTO:+0100
TZNAME:BST
DTSTART:20230326T010000
END:DAYLIGHT
BEGIN:STANDARD
TZOFFSETFROM:+0100
TZOFFSETTO:+0000
TZNAME:GMT
DTSTART:20231029T010000
END:STANDARD
END:VTIMEZONE
BEGIN:VEVENT
DTSTART;TZID=Europe/London:20231214T100000
DTEND;TZID=Europe/London:20231214T150000
DTSTAMP:20260421T050531
CREATED:20231219T174559Z
LAST-MODIFIED:20231219T174559Z
UID:375-1702548000-1702566000@studiomade.cymru
SUMMARY:Dwylo Bach Gets Festive
DESCRIPTION:Dwylo Bach / Little Hands returns on Thursday 14th December with a festive twist. The sensory exploration workshops for babies and toddlers\, developed to link to specific exhibitions with “invitations to play”. The activities are sensory and playful for all the family to enjoy. Suitable for 0 – 5 year olds. \nTo book a place click here: Dwylo Bach Tickets\, Multiple Dates | Eventbrite \nBydd Dwylo Bach / Little Hands yn dychwelyd ar Ddydd Iau y 14eg o Ragfyr gyda blas Nadoligaidd. Datblygodd y gweithdai archwilio synhwyraidd ar gyfer babanod a phlant bach i gysylltu ag arddangosfeydd penodol gyda “gwahoddiad i chwarae”. Mae’r gweithgareddau yn synhwyraidd ac yn chwareus i’r teulu cyfan eu mwynhau. Addas ar gyfer plant 0 – 5 oed. \nI archebu lle cliciwch yma: Tocynnau Dwylo Bach\, Nifer o Ddyddiau | Eventbrite
URL:https://studiomade.cymru/event/dwylo-bach-gets-festive/
CATEGORIES:Workshop
ATTACH;FMTTYPE=image/png:https://studiomade.cymru/wp-content/uploads/2023/06/5ad80cd7-5218-60c8-e4a5-24d510238b4a.png
END:VEVENT
BEGIN:VEVENT
DTSTART;TZID=Europe/London:20231209T100000
DTEND;TZID=Europe/London:20231209T170000
DTSTAMP:20260421T050531
CREATED:20231219T174443Z
LAST-MODIFIED:20231219T174443Z
UID:373-1702116000-1702141200@studiomade.cymru
SUMMARY:Workshop and Talk with Radha Patel
DESCRIPTION:Saturday 9th December sees an exciting opportunity to work with artist Radha Patel to explore future language through interplanetary narratives and the making/sculpting of creatures with clay. \nThe workshop is open to anyone 15+\, who is interested in intergalactic lore and sharing their hopes for the future. \nRadha is a Welsh writer\, reviewer and artist whose work intersects across colonialism\, nature\, religion and the future. \nIn 2019\, she was selected for g39’s UNITe programme where she developed ‘Notes From Aarti’s Diary\, telling the story of people of colour who became trapped inside a spaceship and explored life without of white-supremacy\, ‘after a surge activated the vessel and sent them flying throughout the cosmos\, until they landed on the Planet Kelvin’. ‘Finding Aarti’ is a follow up film where the original protagonist’s sister travels the galaxy in search of her sibling\, exploring her relationship with land and other beings\, and figuring out rituals to sustain these relationships along the way. \nThe language here is ‘an experiment in healing’ – a process explored by our original protagonists to help them find the words to describe and navigate their new freedom. \nStarting at 10am the workshop will run until 2pm\, followed at 3pm by an artist talk. \nTo book your place click here: Intergalactic lore + hopes for the future Tickets\, Sat 9 Dec 2023 at 10:00 | Eventbrite \nAr Ddydd Sadwrn y 9fed o Ragfyr bydd cyfle cyffrous i weithio gyda’r artist Radha Patel i archwilio iaith y dyfodol trwy naratifau rhyngblanedol a gwneud/cerflunio creaduriaid gyda chlai. \nMae’r gweithdy yn agored i unrhyw un 15+\, sydd â diddordeb mewn llên rhyngalaethol a rhannu eu gobeithion ar gyfer y dyfodol. \nMae Radha yn awdur\, adolygydd ac artist Cymreig y mae ei waith yn croestorri ar draws gwladychiaeth\, natur\, crefydd a’r dyfodol. \nYn 2019\, cafodd ei dewis ar gyfer rhaglen UNITe g39 lle datblygodd ‘Notes From Aarti’s Diary’\, gan adrodd hanes pobl o liw a gafodd eu dal y tu mewn i long ofod ac a archwiliodd fywyd heb oruchafiaeth wen\, ‘ar ôl i ymchwydd actifadu’r llong a’u hanfon i hedfan drwy’r cosmos\, nes iddynt lanio ar y Planed Kelvin’. Mae ‘Finding Aarti’ yn ffilm ddilynol lle mae chwaer y prif gymeriad gwreiddiol yn teithio’r alaeth i chwilio am ei chwaer\, yn archwilio ei pherthynas â thir a bodau eraill\, ac yn darganfod defodau i gynnal y perthnasoedd hyn ar hyd y ffordd. \nMae’r iaith yma yn ‘arbrawf mewn iachâd’ – proses a archwiliwyd gan ein prif gymeriadau gwreiddiol i’w helpu i ddod o hyd i’r geiriau i ddisgrifio a llywio eu rhyddid newydd. Gan ddechrau am 10yb bydd y gweithdy yn rhedeg tan 2yp\, gyda sgwrs artist i ddilyn am 3yp. \nI archebu eich lle cliciwch yma: Tocynnau llên rhyngalaethol a gobeithion am y dyfodol\, Sad 9 Rhag 2023 am 10:00 | Eventbrite
URL:https://studiomade.cymru/event/workshop-and-talk-with-radha-patel/
CATEGORIES:Workshop
END:VEVENT
BEGIN:VEVENT
DTSTART;TZID=Europe/London:20231125T143000
DTEND;TZID=Europe/London:20231125T180000
DTSTAMP:20260421T050531
CREATED:20231223T115406Z
LAST-MODIFIED:20231223T115501Z
UID:454-1700922600-1700935200@studiomade.cymru
SUMMARY:'Where To?' - A Panel Discussion
DESCRIPTION:Please join us for a panel discussion on Saturday 25th November at 2:30pm\, titled ‘Where To?’ led by Rosie Wyllie with Jonathan Retallick\, Sarah Grounds\, Ruth Petersen and Seren Ambrose-Ellis. Bringing the exhibition ‘A Different View’ to a close\, ‘Where To?’ will cover the artists’ experiences of art schools across Wales along with the challenges and opportunities that come with graduate life. \nThis is a free event\, open to all. \n_______________ \nYmunwch â ni am drafodaeth banel ar ddydd Sadwrn 25 Tachwedd am 2:30pm\, dan y teitl ‘Ble I?’ dan arweiniad Rosie Wyllie gyda Jonathan Retallick\, Sarah Grounds\, Ruth Petersen a Seren Ambrose-Ellis. Gan ddod â’r arddangosfa ‘Golygfa Gwahanol’ i ben\, mae ‘Where To?’ yn ymdrin â phrofiadau artistiaid o ysgolion celf ledled Cymru ynghyd â’r heriau a’r cyfleoedd a ddaw yn sgil bywyd graddedigion. \nMae hwn yn ddigwyddiad rhad ac am ddim\, sy’n agored i bawb.
URL:https://studiomade.cymru/event/where-to-a-panel-discussion/
LOCATION:The Carrageworks\, 6 Love Lane\, Denbigh\, LL16 3LU\, United Kingdom
CATEGORIES:Event
ATTACH;FMTTYPE=image/png:https://studiomade.cymru/wp-content/uploads/2023/12/Screenshot-2023-12-23-at-11.52.42.png
END:VEVENT
BEGIN:VEVENT
DTSTART;TZID=Europe/London:20231125T113000
DTEND;TZID=Europe/London:20231125T133000
DTSTAMP:20260421T050531
CREATED:20231114T173124Z
LAST-MODIFIED:20231114T173124Z
UID:364-1700911800-1700919000@studiomade.cymru
SUMMARY:Family Art Club / Clwb Celf Teulu
DESCRIPTION:Saturday family art club for ages 7+ \nstudioMADE is pleased to present the new Saturday Family Art Club. Running fortnightly from 11.30 until 13.30 and suitable for those 7 years old and above. These workshops will be run by a different local artist on each occasion. With themes ranging from the exhibitions on show at the gallery through to aspects of the artist’s own art practice they are sure to prove to be both exciting and playful. A great way for all the family to start their weekend with a bit of creativity. \nSessions including making heads\, animation\, interactive art: how to make a light respond to sound\, printing\, weaving\, collage\, painting and much more. \nThe first session will launch on Saturday 15th July 2023 at 11.30am. \nDonation only \n 
URL:https://studiomade.cymru/event/family-art-club-clwb-celf-teulu-2/
CATEGORIES:Workshop
ATTACH;FMTTYPE=image/jpeg:https://studiomade.cymru/wp-content/uploads/2023/09/saturday-art-club-for-screen-june-23-01.jpg
END:VEVENT
BEGIN:VEVENT
DTSTART;TZID=Europe/London:20231007T113000
DTEND;TZID=Europe/London:20231007T133000
DTSTAMP:20260421T050531
CREATED:20230924T134033Z
LAST-MODIFIED:20230924T134033Z
UID:149-1696678200-1696685400@studiomade.cymru
SUMMARY:Family Art Club / Clwb Celf Teulu
DESCRIPTION:Saturday family art club for ages 7+ \nstudioMADE is pleased to present the new Saturday Family Art Club. Running fortnightly from 11.30 until 13.30 and suitable for those 7 years old and above. These workshops will be run by a different local artist on each occasion. With themes ranging from the exhibitions on show at the gallery through to aspects of the artist’s own art practice they are sure to prove to be both exciting and playful. A great way for all the family to start their weekend with a bit of creativity. \nSessions including making heads\, animation\, interactive art: how to make a light respond to sound\, printing\, weaving\, collage\, painting and much more. \nThe first session will launch on Saturday 15th July 2023 at 11.30am. \nDonation only \n 
URL:https://studiomade.cymru/event/family-art-club-clwb-celf-teulu/
CATEGORIES:Workshop
ATTACH;FMTTYPE=image/jpeg:https://studiomade.cymru/wp-content/uploads/2023/09/saturday-art-club-for-screen-june-23-01.jpg
END:VEVENT
BEGIN:VEVENT
DTSTART;TZID=Europe/London:20230928T093000
DTEND;TZID=Europe/London:20230928T113000
DTSTAMP:20260421T050531
CREATED:20230927T181241Z
LAST-MODIFIED:20230927T181255Z
UID:176-1695893400-1695900600@studiomade.cymru
SUMMARY:Dwylo Bach
DESCRIPTION:Alongside our exhibition programme we are embedding monthly Dwylo Bach / Little Hands sensory exploration workshops for babies and toddlers. Developed to link to specific exhibitions with “invitations to play”. The activities are sensory and playful for all the family to enjoy. \nOur next session will run Thursday 28th September 9.30-11.30. \nPlease book here: Dwylo Bach Tickets\, Multiple Dates | Eventbrite\nOchr yn ochr â’n rhaglen arddangos rydym yn sefydlu gweithdai archwilio synhwyraidd Dwylo Bach / Little Hands i fabanod a phlant bach. Wedi’i ddatblygu i gysylltu ag arddangosfeydd penodol gyda “gwahoddiad i chwarae”. Mae’r gweithgareddau yn synhwyraidd ac yn chwareus i’r teulu cyfan eu mwynhau. \nBydd ein sesiwn nesaf yn rhedeg dydd Iau 28 mis Medi 9.30-11.30. \nArchebwch yma os gwelwch yn dda: Dwylo Bach Tickets\, Multiple Dates | Eventbrite
URL:https://studiomade.cymru/event/dwylo-bach-3/
CATEGORIES:Workshop
ATTACH;FMTTYPE=image/png:https://studiomade.cymru/wp-content/uploads/2023/06/5ad80cd7-5218-60c8-e4a5-24d510238b4a.png
END:VEVENT
BEGIN:VEVENT
DTSTART;TZID=Europe/London:20230824T133000
DTEND;TZID=Europe/London:20230824T170000
DTSTAMP:20260421T050531
CREATED:20230927T180408Z
LAST-MODIFIED:20230927T180408Z
UID:163-1692883800-1692896400@studiomade.cymru
SUMMARY:Spoken Word Poetry with Martin Daws
DESCRIPTION:Acclaimed Spoken Word Poet Martin Daws will be inhabiting the current exhibition at studioMADE for both a matinee and an evening performance of his work on Thursday 24th August at 1:30pm and 8pm. \nMartin has performed his work across three decades and multiple continents. A master of spoken rhythms and a lover of the music of language\, Martin’s socially engaged poetry was honoured with the role of Young People’s Laureate for Wales (2013-16). He has published two written collections of his work and collaborated in many top class music projects with – among others – 9Bach\, Mr Phormula and Huw Warren. \nTo book please go to either of the below time options: \nPerformance by spoken word poet Martin Daws at StudioMADE\, Denbigh Tickets\, Thu 24 Aug 2023 at 13:30 | Eventbrite \nPerformance by spoken word poet Martin Daws at StudioMADE\, Denbigh Tickets\, Thu 24 Aug 2023 at 20:00 | Eventbrite\nBarddoniaeth Gair Llafar gyda Martin Daws Bydd y Bardd Llafar Clodfawr Martin Daws yn byw yn yr arddangosfa gyfredol yn studioMADE ar gyfer perfformiad prynhawn a gyda’r nos o’i waith ar ddydd Iau 24 Awst am 1:30pm ac 8pm. \nMae Martin wedi perfformio ei waith ar draws tri degawd a chyfandir lluosog. Yn feistr ar rythmau llafar ac yn hoff o gerddoriaeth iaith\, cafodd barddoniaeth gymdeithasol Martin ei hanrhydeddu â rôl Bardd Llawryfog Pobl Ifanc Cymru (2013-16). Mae wedi cyhoeddi dau gasgliad ysgrifenedig o’i waith ac wedi cydweithio mewn llawer o brosiectau cerdd o’r radd flaenaf gyda – ymhlith eraill – 9Bach\, Mr Phormula a Huw Warren. \nI archebu ewch i unrhyw un o’r opsiynau amser isod: \nPerformance by spoken word poet Martin Daws at StudioMADE\, Denbigh Tickets\, Thu 24 Aug 2023 at 13:30 | Eventbrite \nPerformance by spoken word poet Martin Daws at StudioMADE\, Denbigh Tickets\, Thu 24 Aug 2023 at 20:00 | Eventbrite
URL:https://studiomade.cymru/event/spoken-word-poetry-with-martin-daws/
CATEGORIES:Event
END:VEVENT
BEGIN:VEVENT
DTSTART;TZID=Europe/London:20230817T093000
DTEND;TZID=Europe/London:20230817T113000
DTSTAMP:20260421T050531
CREATED:20230927T180648Z
LAST-MODIFIED:20230927T180712Z
UID:167-1692264600-1692271800@studiomade.cymru
SUMMARY:Dwylo Bach
DESCRIPTION:Alongside our exhibition programme we are embedding monthly Dwylo Bach / Little Hands sensory exploration workshops for babies and toddlers. Developed to link to specific exhibitions with “invitations to play”. The activities are sensory and playful for all the family to enjoy. \nOur next session will run Thursday 17th August 9.30-11.30. \nPlease book here: Dwylo Bach Tickets\, Multiple Dates | Eventbrite\nOchr yn ochr â’n rhaglen arddangos rydym yn sefydlu gweithdai archwilio synhwyraidd Dwylo Bach / Little Hands i fabanod a phlant bach. Wedi’i ddatblygu i gysylltu ag arddangosfeydd penodol gyda “gwahoddiad i chwarae”. Mae’r gweithgareddau yn synhwyraidd ac yn chwareus i’r teulu cyfan eu mwynhau. \nBydd ein sesiwn nesaf yn rhedeg dydd Iau 17 mis Awst 9.30-11.30. \nArchebwch yma os gwelwch yn dda: Dwylo Bach Tickets\, Multiple Dates | Eventbrite
URL:https://studiomade.cymru/event/dwylo-bach-2/
CATEGORIES:Workshop
ATTACH;FMTTYPE=image/png:https://studiomade.cymru/wp-content/uploads/2023/06/5ad80cd7-5218-60c8-e4a5-24d510238b4a.png
END:VEVENT
BEGIN:VEVENT
DTSTART;TZID=Europe/London:20230816T190000
DTEND;TZID=Europe/London:20230816T210000
DTSTAMP:20260421T050531
CREATED:20230927T180459Z
LAST-MODIFIED:20230929T150301Z
UID:165-1692212400-1692219600@studiomade.cymru
SUMMARY:An evening with Anthony Shapland
DESCRIPTION:Join us and writer\, curator and artist @anthonyshapland for a screening of his film Encompass_O and an informal talk about artist-led projects in Wales\, queer voices\, mimicking and the work in the exhibition A i os ei di – Wednesday 16th August 7pm. \n“Back and forth. And back and forth. Pictures are symbols\, symbols become letters\, that make sounds that become words\, that tell stories that make more pictures.” \nPlease book here: Artist sharing with Anthony Shapland Tickets\, Wed 16 Aug 2023 at 19:00 | Eventbrite \nYmunwch â ni a’r awdur\, curadur ac artist @anthonyshapland am ddangosiad o’i ffilm Encompass_O a sgwrs anffurfiol am brosiectau dan arweiniad artistiaid yng Nghymru\, lleisiau cwiar\, dynwared a’r gwaith yn yr arddangosfa A i os ei di – Dydd Mercher 16 mis Awst 7pm. \n“Yn ôl ac ymlaen. Ac yn ôl ac ymlaen. Mae lluniau yn symbolau\, mae symbolau yn troi’n llythrennau\, sy’n gwneud synau sy’n dod yn eiriau\, sy’n adrodd straeon sy’n gwneud mwy o luniau.” \nArchebwch yma os gwelwch yn dda: Artist sharing with Anthony Shapland Tickets\, Wed 16 Aug 2023 at 19:00 | Eventbrite
URL:https://studiomade.cymru/event/an-evening-with-anthony-shapland/
CATEGORIES:Event
ATTACH;FMTTYPE=image/png:https://studiomade.cymru/wp-content/uploads/2023/09/Screenshot-2023-09-27-at-20.55.53.png
END:VEVENT
BEGIN:VEVENT
DTSTART;TZID=Europe/London:20230701T100000
DTEND;TZID=Europe/London:20230701T160000
DTSTAMP:20260421T050531
CREATED:20230614T140508Z
LAST-MODIFIED:20230724T191212Z
UID:135-1688205600-1688227200@studiomade.cymru
SUMMARY:Saturday Family Art Club
DESCRIPTION:Coming Soon… \nNew to the studioMADE programme at the start of next month is the Saturday Family Art Club. \nBeginning in July\, studioMADE is pleased to present the new Saturday Family Art Club. Running fortnightly from 10:00am until 11:30am and suitable for those 7 years old and above\, these workshops will be run by a different local artist on each occasion. With themes ranging from the exhibitions on show at the gallery through to aspects of the artist’s own art practice they are sure to prove to be both exciting and playful. A great way for all the family to start their weekend with a bit of creativity. \nThe first session will launch on Saturday 1st July 2023 at 10:00am. \nFor more information or to sign up please go to: Family Art Club / Clwb Celf Teulu Tickets\, Multiple Dates | Eventbrite \nMae Clwb Celf i’r Teulu dydd Sadwrn yn newydd i’r rhaglen studioMADE ddechrau’r mis nesaf. \nGan ddechrau ym mis Gorffennaf\, mae’n bleser gan studioMADE gyflwyno Clwb Celf newydd i’r Teulu ar ddydd Sadwrn. \nBydd y gweithdai hyn yn cael eu cynnal bob pythefnos rhwng 10:00am a 11:30am ac yn addas i’r rheini sy’n 7 oed neu’n hŷn. Bydd artist lleol gwahanol yn cynnal y gweithdai hyn bob tro. Gyda themâu’n amrywio o’r arddangosfeydd sy’n cael eu harddangos yn yr oriel i agweddau ar waith celf yr artist ei hun\, maen nhw’n siŵr o fod yn gyffrous ac yn chwareus. Ffordd wych i’r teulu cyfan ddechrau eu penwythnos gydag ychydig o greadigrwydd. \nBydd y sesiwn gyntaf yn cael ei lansio fore Sadwrn 1 Gorffennaf 2023 am 10:00am. \nI gael rhagor o wybodaeth neu i gofrestru\, ewch i: Family Art Club / Clwb Celf Teulu Tickets\, Multiple Dates | Eventbrite
URL:https://studiomade.cymru/event/saturday-family-art-club/
LOCATION:The Carrageworks\, 6 Love Lane\, Denbigh\, LL16 3LU\, United Kingdom
CATEGORIES:Workshop
ATTACH;FMTTYPE=image/jpeg:https://studiomade.cymru/wp-content/uploads/2023/06/20d210fc-b8c6-71b3-ff4e-96e7e110395a.jpg
END:VEVENT
BEGIN:VEVENT
DTSTART;TZID=Europe/London:20230618T100000
DTEND;TZID=Europe/London:20230618T180000
DTSTAMP:20260421T050531
CREATED:20230614T140248Z
LAST-MODIFIED:20230614T140248Z
UID:132-1687082400-1687111200@studiomade.cymru
SUMMARY:Glyff
DESCRIPTION:Taking place across the walls of Denbigh on Sunday 18th June 2023 everyone is invited to join in exploring and uncovering shapes in the town’s architecture and street life that look like letters of the alphabet.\nFollowed by a cultural fusion food sharing at the gallery. Please bring your own cultural dish.\nAll you need to take part is a smartphone or digital camera. For more information please email connect@studiomade.org.uk or follow @glyph_dinbych on Instagram.\nMeet at 10am in The Carriageworks \nYn cymryd lle ar draws muriau Dinbych ddydd Sul 18fed Mehefin 2023 gwahoddir pawb i ymuno archwilio a datgelu siapiau yn y dref pensaernïaeth a bywyd stryd sy’n edrych fel llythrennau’r wyddor.\nDilynir gan ymasiad diwylliannol rhannu bwyd yn y oriel. Dewch â’ch pryd diwylliannol eich hun.\nY cyfan sydd angen i chi gymryd rhan yw ffôn clyfar neu ddigidol camera. Am fwy o wybodaeth ebostiwch connect@studiomade.org.uk neu dilynwch @glyph_dinbych ar Instagram.\nCyfarfod am 10am yn The Carriageworks.
URL:https://studiomade.cymru/event/glyff/
LOCATION:The Carrageworks\, 6 Love Lane\, Denbigh\, LL16 3LU\, United Kingdom
CATEGORIES:Workshop
ATTACH;FMTTYPE=image/jpeg:https://studiomade.cymru/wp-content/uploads/2023/06/90478d15-010e-7a3d-f909-e4465d8288af-scaled.jpg
END:VEVENT
BEGIN:VEVENT
DTSTART;TZID=Europe/London:20230617T100000
DTEND;TZID=Europe/London:20230617T160000
DTSTAMP:20260421T050531
CREATED:20230614T140018Z
LAST-MODIFIED:20230614T140018Z
UID:130-1686996000-1687017600@studiomade.cymru
SUMMARY:'This is More Than Just a Hat'
DESCRIPTION:On Saturday 17th June from 10am until 1pm artist Louise Short will be undertaking a hat making workshop called ‘This is More Than Just a Hat‘ at studioMADE. Following on from this workshop will be a discussion from 2pm – 4pm around the future of transport in Denbigh\, which is linked to themes in the current exhibition ‘Lost in Transit’. \nIn preparation for her workshop and discussion on Saturday\, Louise began looking into how she would reach the gallery via public transport. The result was a much diverted route using many buses that would take a full day if all connections were successful\, but possibly even two days if not. Louise felt there must be a better way and so began planning a collaboration with SusTrans to ride by eBicycle from her home in Cwmrheidol to The Carriageworks in Denbigh. \nIn the words of the artist it is a journey that may ‘inevitably fail’ due to the treacherous roads and lack of cycle routes\, but through this failure Louise feels there will be fuel to talk through in the discussion on Saturday. Given that we are in an interesting time of transition when it comes to transport this discussion will span ways of getting around Denbigh and what could be done to improve its future. \nDdydd Sadwrn 17 Mehefin rhwng 10am ac 1pm bydd yr artist Louise Short yn cynnal gweithdy gwneud hetiau o’r enw ‘This is More Than Just a Hat’ yn studioMADE. Yn dilyn y gweithdy hwn\, bydd trafodaeth rhwng 2pm a 4pm ynghylch dyfodol trafnidiaeth yn Ninbych\, sy’n gysylltiedig â themâu yn yr arddangosfa gyfredol Adlais o’r Gorffennol ‘Lost in Transit’. \nWrth baratoi ar gyfer ei gweithdy a’i thrafodaeth ddydd Sadwrn\, dechreuodd Louise edrych ar sut byddai hi’n cyrraedd yr oriel ar drafnidiaeth gyhoeddus. Y canlyniad oedd llwybr wedi’i ddargyfeirio’n fawr gan ddefnyddio llawer o fysiau a fyddai’n cymryd diwrnod llawn pe bai pob cysylltiad yn llwyddiannus\, ond o bosibl hyd yn oed ddau ddiwrnod os na fyddai. Teimlai Louise fod yn rhaid cael ffordd well ac felly dechreuodd gynllunio ar y cyd â SusTrans i reidio ar eBeic o’i chartref yng Nghwmrheidol i The Carriageworks yn Ninbych. \nYng ngeiriau’r artist\, mae’n daith a allai ‘fethu’n llwyr’ oherwydd y ffyrdd peryglus a’r diffyg llwybrau beicio. Ond\, mae Louise yn teimlo bod y problemau hyn yn danwydd ar gyfer cynnal trafodaethau ddydd Sadwrn. Gan ein bod mewn cyfnod o drawsnewid diddorol o ran trafnidiaeth\, bydd y drafodaeth hon yn ymdrin â gwahanol ffyrdd o symud o gwmpas Dinbych\, a beth y gellid ei wneud i wella ei dyfodol.
URL:https://studiomade.cymru/event/this-is-more-than-just-a-hat/
LOCATION:The Carrageworks\, 6 Love Lane\, Denbigh\, LL16 3LU\, United Kingdom
CATEGORIES:Workshop
END:VEVENT
BEGIN:VEVENT
DTSTART;TZID=Europe/London:20230617T080000
DTEND;TZID=Europe/London:20230625T170000
DTSTAMP:20260421T050531
CREATED:20230614T135405Z
LAST-MODIFIED:20230614T135455Z
UID:122-1686988800-1687712400@studiomade.cymru
SUMMARY:Lost in Transit
DESCRIPTION:June is upon us and Lost in Transit is well underway with just over two weeks left to catch it if you haven’t already. This month sees a range of events also happening at studioMADE to coincide with the Denbigh Midsummer Festival that will run from 17th June until 25th June\, all of which are listed below. \nThey span sensory play with Dwylo Bach; hat making and discussions around the future of transport in Denbigh and Wales as a whole; font explorations around the architecture of Denbigh and a sneak peak at a new fortnightly art club for the gallery. All of this listed below in date order for your convenience. \nMae Mehefin ar ein gwarthaf ac mae Adlais o’r Gorffennol (Lost in Transit)yn mynd rhagddo’n dda gydag ychydig dros bythefnos ar ôl i weld yr arddangosfa os nad ydych chi wedi gwneud hynny’n barod. Yn ystod y mis hwn\, cynhelir amrywiaeth o ddigwyddiadau hefyd yn studioMADE i gyd-fynd â Gŵyl Ganol Haf Dinbych a fydd yn cael ei chynnal rhwng 17 Mehefin a 25 Mehefin. Mae’r digwyddiadau i gyd wedi’u rhestru isod. \nMaen nhw’n cynnwys chwarae synhwyraidd gyda Dwylo Bach; creu hetiau a thrafodaethau am ddyfodol trafnidiaeth yn Ninbych a Chymru yn gyffredinol; archwilio a datgelu siapiau ym mhensaernïaeth tref Dinbych a dechrau clwb celf newydd bob pythefnos ar gyfer yr oriel. Mae’r rhain i gyd wedi’u rhestru isod yn nhrefn dyddiad er hwylustod i chi. \n 
URL:https://studiomade.cymru/event/lost-in-transit/
LOCATION:The Carrageworks\, 6 Love Lane\, Denbigh\, LL16 3LU\, United Kingdom
CATEGORIES:Exhibition
ATTACH;FMTTYPE=image/jpeg:https://studiomade.cymru/wp-content/uploads/2023/06/604cfbea-f49c-c1d0-5ca5-23b172323a3b-scaled.jpg
END:VEVENT
BEGIN:VEVENT
DTSTART;TZID=Europe/London:20230615T093000
DTEND;TZID=Europe/London:20230615T113000
DTSTAMP:20260421T050531
CREATED:20230614T135725Z
LAST-MODIFIED:20230614T135725Z
UID:127-1686821400-1686828600@studiomade.cymru
SUMMARY:Dwylo Bach
DESCRIPTION:Alongside our exhibition programme we are embedding monthly Dwylo Bach / Little Hands sensory exploration workshops for babies and toddlers. Developed to link to specific exhibitions with “invitations to play”. The activities are sensory and playful for all the family to enjoy. \nOur next session will run Thursday 15th June 9.30-11.30. \nPlease book here: Dwylo Bach Tickets\, Thu 15 Jun 2023 at 09:30 | Eventbrite \nOchr yn ochr â’n rhaglen arddangos rydym yn sefydlu gweithdai archwilio synhwyraidd Dwylo Bach / Little Hands i fabanod a phlant bach. Wedi’i ddatblygu i gysylltu ag arddangosfeydd penodol gyda “gwahoddiad i chwarae”. Mae’r gweithgareddau yn synhwyraidd ac yn chwareus i’r teulu cyfan eu mwynhau. \nBydd ein sesiwn nesaf yn rhedeg dydd Iau 15 mis Mehefin 9.30-11.30. \nArchebwch yma os gwelwch yn dda: Dwylo Bach Tickets\, Thu 15 Jun 2023 at 09:30 | Eventbrite
URL:https://studiomade.cymru/event/dwylo-bach/
LOCATION:The Carrageworks\, 6 Love Lane\, Denbigh\, LL16 3LU\, United Kingdom
CATEGORIES:Workshop
ATTACH;FMTTYPE=image/png:https://studiomade.cymru/wp-content/uploads/2023/06/5ad80cd7-5218-60c8-e4a5-24d510238b4a.png
END:VEVENT
END:VCALENDAR