BEGIN:VCALENDAR
VERSION:2.0
PRODID:-//studioMADE at the Carriageworks - ECPv6.13.2.1//NONSGML v1.0//EN
CALSCALE:GREGORIAN
METHOD:PUBLISH
X-WR-CALNAME:studioMADE at the Carriageworks
X-ORIGINAL-URL:https://studiomade.cymru
X-WR-CALDESC:Events for studioMADE at the Carriageworks
REFRESH-INTERVAL;VALUE=DURATION:PT1H
X-Robots-Tag:noindex
X-PUBLISHED-TTL:PT1H
BEGIN:VTIMEZONE
TZID:Europe/London
BEGIN:DAYLIGHT
TZOFFSETFROM:+0000
TZOFFSETTO:+0100
TZNAME:BST
DTSTART:20240331T010000
END:DAYLIGHT
BEGIN:STANDARD
TZOFFSETFROM:+0100
TZOFFSETTO:+0000
TZNAME:GMT
DTSTART:20241027T010000
END:STANDARD
END:VTIMEZONE
BEGIN:VEVENT
DTSTART;TZID=Europe/London:20240325T110000
DTEND;TZID=Europe/London:20240325T143000
DTSTAMP:20260421T045649
CREATED:20240321T201438Z
LAST-MODIFIED:20240321T201438Z
UID:579-1711364400-1711377000@studiomade.cymru
SUMMARY:Glass Workshop with Verity Pulford
DESCRIPTION:Join the artist on Monday 25th March from 11am until 2:30pm within her exhibition at studioMADE to learn about how to work with glass and be inspired by the natural world. Using small natural objects as inspiration Verity will work with you in a small group to help you create fused and painted light catchers. \nPlaces are limited so please book by clicking here: Glass Workshop with Verity Pulford Tickets\, Mon\, Mar 25\, 2024 at 11:00 AM | Eventbrite\nYmunwch â’r artist ddydd Llun 25 Mawrth o 11yb tan 2:30yp yn ei harddangosfa yn studioMADE i ddysgu sut i weithio gyda gwydr a chael eich ysbrydoli gan y byd naturiol. Trwy ddefnyddio gwrthrychau naturiol bach fel ysbrydoliaeth\, bydd Verity yn gweithio gyda chi mewn grŵp bach i’ch helpu i greu dalwyr golau wedi’u hasio a’u paentio. \nMae lleoedd yn gyfyngedig felly archebwch trwy glicio yma: Glass Workshop with Verity Pulford Tickets\, Mon\, Mar 25\, 2024 at 11:00 AM | Eventbrite
URL:https://studiomade.cymru/event/glass-workshop-with-verity-pulford/
LOCATION:The Carrageworks\, 6 Love Lane\, Denbigh\, LL16 3LU\, United Kingdom
CATEGORIES:Workshop
ATTACH;FMTTYPE=image/jpeg:https://studiomade.cymru/wp-content/uploads/2024/03/verity04.jpg
END:VEVENT
END:VCALENDAR