BEGIN:VCALENDAR
VERSION:2.0
PRODID:-//studioMADE at the Carriageworks - ECPv6.13.2.1//NONSGML v1.0//EN
CALSCALE:GREGORIAN
METHOD:PUBLISH
X-WR-CALNAME:studioMADE at the Carriageworks
X-ORIGINAL-URL:https://studiomade.cymru
X-WR-CALDESC:Events for studioMADE at the Carriageworks
REFRESH-INTERVAL;VALUE=DURATION:PT1H
X-Robots-Tag:noindex
X-PUBLISHED-TTL:PT1H
BEGIN:VTIMEZONE
TZID:Europe/London
BEGIN:DAYLIGHT
TZOFFSETFROM:+0000
TZOFFSETTO:+0100
TZNAME:BST
DTSTART:20230326T010000
END:DAYLIGHT
BEGIN:STANDARD
TZOFFSETFROM:+0100
TZOFFSETTO:+0000
TZNAME:GMT
DTSTART:20231029T010000
END:STANDARD
END:VTIMEZONE
BEGIN:VEVENT
DTSTART;TZID=Europe/London:20230617T080000
DTEND;TZID=Europe/London:20230625T170000
DTSTAMP:20260422T030313
CREATED:20230614T135405Z
LAST-MODIFIED:20230614T135455Z
UID:122-1686988800-1687712400@studiomade.cymru
SUMMARY:Lost in Transit
DESCRIPTION:June is upon us and Lost in Transit is well underway with just over two weeks left to catch it if you haven’t already. This month sees a range of events also happening at studioMADE to coincide with the Denbigh Midsummer Festival that will run from 17th June until 25th June\, all of which are listed below. \nThey span sensory play with Dwylo Bach; hat making and discussions around the future of transport in Denbigh and Wales as a whole; font explorations around the architecture of Denbigh and a sneak peak at a new fortnightly art club for the gallery. All of this listed below in date order for your convenience. \nMae Mehefin ar ein gwarthaf ac mae Adlais o’r Gorffennol (Lost in Transit)yn mynd rhagddo’n dda gydag ychydig dros bythefnos ar ôl i weld yr arddangosfa os nad ydych chi wedi gwneud hynny’n barod. Yn ystod y mis hwn\, cynhelir amrywiaeth o ddigwyddiadau hefyd yn studioMADE i gyd-fynd â Gŵyl Ganol Haf Dinbych a fydd yn cael ei chynnal rhwng 17 Mehefin a 25 Mehefin. Mae’r digwyddiadau i gyd wedi’u rhestru isod. \nMaen nhw’n cynnwys chwarae synhwyraidd gyda Dwylo Bach; creu hetiau a thrafodaethau am ddyfodol trafnidiaeth yn Ninbych a Chymru yn gyffredinol; archwilio a datgelu siapiau ym mhensaernïaeth tref Dinbych a dechrau clwb celf newydd bob pythefnos ar gyfer yr oriel. Mae’r rhain i gyd wedi’u rhestru isod yn nhrefn dyddiad er hwylustod i chi. \n 
URL:https://studiomade.cymru/event/lost-in-transit/
LOCATION:The Carrageworks\, 6 Love Lane\, Denbigh\, LL16 3LU\, United Kingdom
CATEGORIES:Exhibition
ATTACH;FMTTYPE=image/jpeg:https://studiomade.cymru/wp-content/uploads/2023/06/604cfbea-f49c-c1d0-5ca5-23b172323a3b-scaled.jpg
END:VEVENT
BEGIN:VEVENT
DTSTART;TZID=Europe/London:20230618T100000
DTEND;TZID=Europe/London:20230618T180000
DTSTAMP:20260422T030313
CREATED:20230614T140248Z
LAST-MODIFIED:20230614T140248Z
UID:132-1687082400-1687111200@studiomade.cymru
SUMMARY:Glyff
DESCRIPTION:Taking place across the walls of Denbigh on Sunday 18th June 2023 everyone is invited to join in exploring and uncovering shapes in the town’s architecture and street life that look like letters of the alphabet.\nFollowed by a cultural fusion food sharing at the gallery. Please bring your own cultural dish.\nAll you need to take part is a smartphone or digital camera. For more information please email connect@studiomade.org.uk or follow @glyph_dinbych on Instagram.\nMeet at 10am in The Carriageworks \nYn cymryd lle ar draws muriau Dinbych ddydd Sul 18fed Mehefin 2023 gwahoddir pawb i ymuno archwilio a datgelu siapiau yn y dref pensaernïaeth a bywyd stryd sy’n edrych fel llythrennau’r wyddor.\nDilynir gan ymasiad diwylliannol rhannu bwyd yn y oriel. Dewch â’ch pryd diwylliannol eich hun.\nY cyfan sydd angen i chi gymryd rhan yw ffôn clyfar neu ddigidol camera. Am fwy o wybodaeth ebostiwch connect@studiomade.org.uk neu dilynwch @glyph_dinbych ar Instagram.\nCyfarfod am 10am yn The Carriageworks.
URL:https://studiomade.cymru/event/glyff/
LOCATION:The Carrageworks\, 6 Love Lane\, Denbigh\, LL16 3LU\, United Kingdom
CATEGORIES:Workshop
ATTACH;FMTTYPE=image/jpeg:https://studiomade.cymru/wp-content/uploads/2023/06/90478d15-010e-7a3d-f909-e4465d8288af-scaled.jpg
END:VEVENT
END:VCALENDAR